BEGIN:VCALENDAR
VERSION:2.0
PRODID:-//https://tantradance.nl///NONSGML kigkonsult.se iCalcreator 2.10.15//
METHOD:PUBLISH
BEGIN:VEVENT
UID:20260422T083853UTC-3920bFZKBa@https://tantradance.nl/
DTSTAMP:20260422T083853Z
DESCRIPTION:Participation is only for TD INTIMI friends.19:00 ~ OPEN (19:30
  deur DICHT!)19:30 ~ Start &amp\; warmingup20:00 ~ Free dance space22:30 ~
  EndSee intimi.tantric.dance for more info. https://tantradance.nl/en/agen
 da/intimivrienden/event/938-tantric-dance-intimi-vriendenavond
DTSTART:20260508T173000Z
DTEND:20260508T203000Z
LOCATION:Community Overvloed (Arkansasdreef 20\, 3565 AR Utrecht)
SUMMARY:Tantric Dance INTIMI vriendenavond
URL:https://tantradance.nl/en/agenda/intimivrienden/event/938-tantric-dance
 -intimi-vriendenavond
END:VEVENT
BEGIN:VEVENT
UID:20260422T083853UTC-39239wbTaP@https://tantradance.nl/
DTSTAMP:20260422T083853Z
DESCRIPTION:Participation is for those that are invited personally.18:00 ~ 
 Potluck19:30 ~ Start &amp\; warming up&nbsp\;(20h door closed!)20:00 ~ Fre
 e dance space22:30 ~ End https://tantradance.nl/en/agenda/intimivrienden/e
 vent/939-tantric-dance-intimi-reunion
DTSTART:20260612T173000Z
DTEND:20260612T203000Z
LOCATION:Community Overvloed (Arkansasdreef 20\, 3565 AR Utrecht)
SUMMARY:Tantric Dance INTIMI REUNION
URL:https://tantradance.nl/en/agenda/intimivrienden/event/939-tantric-dance
 -intimi-reunion
END:VEVENT
BEGIN:VEVENT
UID:20260422T083853UTC-3924ICuG4u@https://tantradance.nl/
DTSTAMP:20260422T083853Z
DESCRIPTION:Participation is only for TD INTIMI friends.19:00 ~ OPEN (19:30
  deur DICHT!)19:30 ~ Start &amp\; warmingup20:00 ~ Free dance space22:30 ~
  EndSee intimi.tantric.dance for more info. https://tantradance.nl/en/agen
 da/intimivrienden/event/961-tantric-dance-intimi-utrecht-vriendenavond
DTSTART:20261002T173000Z
DTEND:20261002T203000Z
LOCATION:Community Overvloed (Arkansasdreef 20\, 3565 AR Utrecht)
SUMMARY:Tantric Dance INTIMI Utrecht vriendenavond
URL:https://tantradance.nl/en/agenda/intimivrienden/event/961-tantric-dance
 -intimi-utrecht-vriendenavond
END:VEVENT
BEGIN:VEVENT
UID:20260422T083853UTC-39257s6Wdd@https://tantradance.nl/
DTSTAMP:20260422T083853Z
DESCRIPTION:Participation is only for TD INTIMI friends.19:00 ~ OPEN (19:30
  deur DICHT!)19:30 ~ Start &amp\; warmingup20:00 ~ Free dance space22:30 ~
  EndSee intimi.tantric.dance for more info. https://tantradance.nl/en/agen
 da/intimivrienden/event/970-tantric-dance-intimi-vriendenavond
DTSTART:20261113T183000Z
DTEND:20261113T213000Z
LOCATION:Community Overvloed (Arkansasdreef 20\, 3565 AR Utrecht)
SUMMARY:Tantric Dance INTIMI vriendenavond
URL:https://tantradance.nl/en/agenda/intimivrienden/event/970-tantric-dance
 -intimi-vriendenavond
END:VEVENT
BEGIN:VEVENT
UID:20260422T083853UTC-3926NNlUei@https://tantradance.nl/
DTSTAMP:20260422T083853Z
DESCRIPTION:Participation is only for TD INTIMI friends.19:00 ~ OPEN (19:30
  deur DICHT!)19:30 ~ Start &amp\; warmingup20:00 ~ Free dance space22:30 ~
  EndSee intimi.tantric.dance for more info. https://tantradance.nl/en/agen
 da/intimivrienden/event/971-tantric-dance-intimi-vriendenavond
DTSTART:20261211T183000Z
DTEND:20261211T213000Z
LOCATION:Community Overvloed (Arkansasdreef 20\, 3565 AR Utrecht)
SUMMARY:Tantric Dance INTIMI vriendenavond
URL:https://tantradance.nl/en/agenda/intimivrienden/event/971-tantric-dance
 -intimi-vriendenavond
END:VEVENT
BEGIN:VEVENT
UID:20260422T083853UTC-3928n39gTI@https://tantradance.nl/
DTSTAMP:20260422T083853Z
DESCRIPTION:Participation is only for TD INTIMI friends.19:00 ~ OPEN (19:30
  deur DICHT!)19:30 ~ Start &amp\; warmingup20:00 ~ Free dance space22:30 ~
  EndSee intimi.tantric.dance for more info. https://tantradance.nl/en/agen
 da/intimivrienden/event/972-tantric-dance-intimi-vriendenavond
DTSTART:20270108T183000Z
DTEND:20270108T213000Z
LOCATION:Community Overvloed (Arkansasdreef 20\, 3565 AR Utrecht)
SUMMARY:Tantric Dance INTIMI vriendenavond
URL:https://tantradance.nl/en/agenda/intimivrienden/event/972-tantric-dance
 -intimi-vriendenavond
END:VEVENT
BEGIN:VEVENT
UID:20260422T083853UTC-3929chDCvG@https://tantradance.nl/
DTSTAMP:20260422T083853Z
DESCRIPTION:Participation is only for TD INTIMI friends.19:00 ~ OPEN (19:30
  deur DICHT!)19:30 ~ Start &amp\; warmingup20:00 ~ Free dance space22:30 ~
  EndSee intimi.tantric.dance for more info. https://tantradance.nl/en/agen
 da/intimivrienden/event/973-tantric-dance-intimi-vriendenavond
DTSTART:20270212T183000Z
DTEND:20270212T213000Z
LOCATION:Community Overvloed (Arkansasdreef 20\, 3565 AR Utrecht)
SUMMARY:Tantric Dance INTIMI vriendenavond
URL:https://tantradance.nl/en/agenda/intimivrienden/event/973-tantric-dance
 -intimi-vriendenavond
END:VEVENT
BEGIN:VEVENT
UID:20260422T083853UTC-39302uS8mw@https://tantradance.nl/
DTSTAMP:20260422T083853Z
DESCRIPTION:Participation is only for TD INTIMI friends.19:00 ~ OPEN (19:30
  deur DICHT!)19:30 ~ Start &amp\; warmingup20:00 ~ Free dance space22:30 ~
  EndSee intimi.tantric.dance for more info. https://tantradance.nl/en/agen
 da/intimivrienden/event/974-tantric-dance-intimi-vriendenavond
DTSTART:20270312T183000Z
DTEND:20270312T213000Z
LOCATION:Community Overvloed (Arkansasdreef 20\, 3565 AR Utrecht)
SUMMARY:Tantric Dance INTIMI vriendenavond
URL:https://tantradance.nl/en/agenda/intimivrienden/event/974-tantric-dance
 -intimi-vriendenavond
END:VEVENT
BEGIN:VEVENT
UID:20260422T083853UTC-39313Jb1HR@https://tantradance.nl/
DTSTAMP:20260422T083853Z
DESCRIPTION:Participation is only for TD INTIMI friends.19:00 ~ OPEN (19:30
  deur DICHT!)19:30 ~ Start &amp\; warmingup20:00 ~ Free dance space22:30 ~
  EndSee intimi.tantric.dance for more info. https://tantradance.nl/en/agen
 da/intimivrienden/event/975-tantric-dance-intimi-vriendenavond
DTSTART:20270409T173000Z
DTEND:20270409T203000Z
LOCATION:Community Overvloed (Arkansasdreef 20\, 3565 AR Utrecht)
SUMMARY:Tantric Dance INTIMI vriendenavond
URL:https://tantradance.nl/en/agenda/intimivrienden/event/975-tantric-dance
 -intimi-vriendenavond
END:VEVENT
BEGIN:VEVENT
UID:20260422T083853UTC-3933v6aE3P@https://tantradance.nl/
DTSTAMP:20260422T083853Z
DESCRIPTION:Participation is only for TD INTIMI friends.19:00 ~ OPEN (19:30
  deur DICHT!)19:30 ~ Start &amp\; warmingup20:00 ~ Free dance space22:30 ~
  EndSee intimi.tantric.dance for more info. https://tantradance.nl/en/agen
 da/intimivrienden/event/976-tantric-dance-intimi-vriendenavond
DTSTART:20270514T173000Z
DTEND:20270514T203000Z
LOCATION:Community Overvloed (Arkansasdreef 20\, 3565 AR Utrecht)
SUMMARY:Tantric Dance INTIMI vriendenavond
URL:https://tantradance.nl/en/agenda/intimivrienden/event/976-tantric-dance
 -intimi-vriendenavond
END:VEVENT
BEGIN:VEVENT
UID:20260422T083853UTC-3934rFcRJD@https://tantradance.nl/
DTSTAMP:20260422T083853Z
DESCRIPTION:Participation is only for TD INTIMI friends.19:00 ~ OPEN (19:30
  deur DICHT!)19:30 ~ Start &amp\; warmingup20:00 ~ Free dance space22:30 ~
  EndSee intimi.tantric.dance for more info. https://tantradance.nl/en/agen
 da/intimivrienden/event/977-tantric-dance-intimi-utrecht-vriendenavond
DTSTART:20270611T173000Z
DTEND:20270611T203000Z
LOCATION:Community Overvloed (Arkansasdreef 20\, 3565 AR Utrecht)
SUMMARY:Tantric Dance INTIMI Utrecht vriendenavond
URL:https://tantradance.nl/en/agenda/intimivrienden/event/977-tantric-dance
 -intimi-utrecht-vriendenavond
END:VEVENT
BEGIN:VEVENT
UID:20260422T083853UTC-39356Dmv4v@https://tantradance.nl/
DTSTAMP:20260422T083853Z
DESCRIPTION:Participation is for those that are invited personally.18:00 ~ 
 Potluck19:30 ~ Start &amp\; warming up&nbsp\;(20h door closed!)20:00 ~ Fre
 e dance space22:30 ~ End https://tantradance.nl/en/agenda/intimivrienden/e
 vent/980-tantric-dance-intimi-reunion-season-start
DTSTART:20260911T173000Z
DTEND:20260911T203000Z
LOCATION:Community Overvloed (Arkansasdreef 20\, 3565 AR Utrecht)
SUMMARY:Tantric Dance INTIMI REUNION & Season start
URL:https://tantradance.nl/en/agenda/intimivrienden/event/980-tantric-dance
 -intimi-reunion-season-start
END:VEVENT
END:VCALENDAR
