BEGIN:VCALENDAR
VERSION:2.0
PRODID:-//https://tantradance.nl///NONSGML kigkonsult.se iCalcreator 2.10.15//
METHOD:PUBLISH
BEGIN:VEVENT
UID:20260424T082837UTC-994797vpiK@https://tantradance.nl/
DTSTAMP:20260424T082837Z
DESCRIPTION:Participation is only for TD Intimi members.See intimi.tantric.
 dance for more info. https://tantradance.nl/en/agenda/td-intimi-tickets/ev
 ent/800-tantric-dance-intimi-utrecht-o-evening
DTSTART:20260524T170000Z
DTEND:20260524T203000Z
LOCATION:Community Overvloed (Arkansasdreef 20\, 3565 AR Utrecht)
SUMMARY:Tantric Dance INTIMI Utrecht • evening
URL:https://tantradance.nl/en/agenda/td-intimi-tickets/event/800-tantric-da
 nce-intimi-utrecht-o-evening
END:VEVENT
BEGIN:VEVENT
UID:20260424T082837UTC-9949cju7hk@https://tantradance.nl/
DTSTAMP:20260424T082837Z
DESCRIPTION:Participation is only for TD Intimi members.See intimi.tantric.
 dance for more info. https://tantradance.nl/en/agenda/td-intimi-tickets/ev
 ent/801-tantric-dance-intimi-utrecht-o-evening
DTSTART:20260628T170000Z
DTEND:20260628T203000Z
LOCATION:Community Overvloed (Arkansasdreef 20\, 3565 AR Utrecht)
SUMMARY:Tantric Dance INTIMI Utrecht • evening
URL:https://tantradance.nl/en/agenda/td-intimi-tickets/event/801-tantric-da
 nce-intimi-utrecht-o-evening
END:VEVENT
BEGIN:VEVENT
UID:20260424T082837UTC-9950Av22fO@https://tantradance.nl/
DTSTAMP:20260424T082837Z
DESCRIPTION:Participation is only for TD Intimi members.See intimi.tantric.
 dance for more info. https://tantradance.nl/en/agenda/td-intimi-tickets/ev
 ent/809-tantric-dance-intimi-utrecht-o-afternoon
DTSTART:20260524T110000Z
DTEND:20260524T150000Z
LOCATION:Community Overvloed (Arkansasdreef 20\, 3565 AR Utrecht)
SUMMARY:Tantric Dance INTIMI Utrecht • afternoon
URL:https://tantradance.nl/en/agenda/td-intimi-tickets/event/809-tantric-da
 nce-intimi-utrecht-o-afternoon
END:VEVENT
BEGIN:VEVENT
UID:20260424T082837UTC-9951ZVXjb0@https://tantradance.nl/
DTSTAMP:20260424T082837Z
DESCRIPTION:Participation is only for TD Intimi members.See intimi.tantric.
 dance for more info. https://tantradance.nl/en/agenda/td-intimi-tickets/ev
 ent/810-tantric-dance-intimi-utrecht-o-afternoon
DTSTART:20260628T110000Z
DTEND:20260628T150000Z
LOCATION:Community Overvloed (Arkansasdreef 20\, 3565 AR Utrecht)
SUMMARY:Tantric Dance INTIMI Utrecht • afternoon
URL:https://tantradance.nl/en/agenda/td-intimi-tickets/event/810-tantric-da
 nce-intimi-utrecht-o-afternoon
END:VEVENT
BEGIN:VEVENT
UID:20260424T082837UTC-9952nmFNJr@https://tantradance.nl/
DTSTAMP:20260424T082837Z
DESCRIPTION:Participation is only for TD INTIMI friends.19:00 ~ OPEN (19:30
  deur DICHT!)19:30 ~ Start &amp\; warmingup20:00 ~ Free dance space22:30 ~
  EndSee intimi.tantric.dance for more info. https://tantradance.nl/en/agen
 da/td-intimi-tickets/event/938-tantric-dance-intimi-vriendenavond
DTSTART:20260508T173000Z
DTEND:20260508T203000Z
LOCATION:Community Overvloed (Arkansasdreef 20\, 3565 AR Utrecht)
SUMMARY:Tantric Dance INTIMI vriendenavond
URL:https://tantradance.nl/en/agenda/td-intimi-tickets/event/938-tantric-da
 nce-intimi-vriendenavond
END:VEVENT
BEGIN:VEVENT
UID:20260424T082837UTC-9954FG6DGC@https://tantradance.nl/
DTSTAMP:20260424T082837Z
DESCRIPTION:Participation is for those that are invited personally.18:00 ~ 
 Potluck19:30 ~ Start &amp\; warming up&nbsp\;(20h door closed!)20:00 ~ Fre
 e dance space22:30 ~ End https://tantradance.nl/en/agenda/td-intimi-ticket
 s/event/939-tantric-dance-intimi-reunion
DTSTART:20260612T173000Z
DTEND:20260612T203000Z
LOCATION:Community Overvloed (Arkansasdreef 20\, 3565 AR Utrecht)
SUMMARY:Tantric Dance INTIMI REUNION
URL:https://tantradance.nl/en/agenda/td-intimi-tickets/event/939-tantric-da
 nce-intimi-reunion
END:VEVENT
BEGIN:VEVENT
UID:20260424T082837UTC-9955XOICk1@https://tantradance.nl/
DTSTAMP:20260424T082837Z
DESCRIPTION:Participation is only for TD Intimi members.See intimi.tantric.
 dance for more info. https://tantradance.nl/en/agenda/td-intimi-tickets/ev
 ent/941-tantric-dance-intimi-utrecht
DTSTART:20260927T110000Z
DTEND:20260927T150000Z
LOCATION:Community Overvloed (Arkansasdreef 20\, 3565 AR Utrecht)
SUMMARY:Tantric Dance INTIMI Utrecht
URL:https://tantradance.nl/en/agenda/td-intimi-tickets/event/941-tantric-da
 nce-intimi-utrecht
END:VEVENT
BEGIN:VEVENT
UID:20260424T082837UTC-9956ZAB5W7@https://tantradance.nl/
DTSTAMP:20260424T082837Z
DESCRIPTION:Participation is only for TD Intimi members.See intimi.tantric.
 dance for more info. https://tantradance.nl/en/agenda/td-intimi-tickets/ev
 ent/942-tantric-dance-intimi-new
DTSTART:20260906T110000Z
DTEND:20260906T150000Z
LOCATION:Community Overvloed (Arkansasdreef 20\, 3565 AR Utrecht)
SUMMARY:Tantric Dance INTIMI NEW
URL:https://tantradance.nl/en/agenda/td-intimi-tickets/event/942-tantric-da
 nce-intimi-new
END:VEVENT
BEGIN:VEVENT
UID:20260424T082837UTC-9957CaancJ@https://tantradance.nl/
DTSTAMP:20260424T082837Z
DESCRIPTION:Participation is only for TD Intimi members.See intimi.tantric.
 dance for more info. https://tantradance.nl/en/agenda/td-intimi-tickets/ev
 ent/943-tantric-dance-intimi-new
DTSTART:20261004T110000Z
DTEND:20261004T150000Z
LOCATION:Community Overvloed (Arkansasdreef 20\, 3565 AR Utrecht)
SUMMARY:Tantric Dance INTIMI NEW
URL:https://tantradance.nl/en/agenda/td-intimi-tickets/event/943-tantric-da
 nce-intimi-new
END:VEVENT
BEGIN:VEVENT
UID:20260424T082837UTC-9958UKvaD2@https://tantradance.nl/
DTSTAMP:20260424T082837Z
DESCRIPTION:Participation is only for TD Intimi members.See intimi.tantric.
 dance for more info. https://tantradance.nl/en/agenda/td-intimi-tickets/ev
 ent/944-tantric-dance-intimi-new
DTSTART:20261108T120000Z
DTEND:20261108T160000Z
LOCATION:Community Overvloed (Arkansasdreef 20\, 3565 AR Utrecht)
SUMMARY:Tantric Dance INTIMI NEW
URL:https://tantradance.nl/en/agenda/td-intimi-tickets/event/944-tantric-da
 nce-intimi-new
END:VEVENT
BEGIN:VEVENT
UID:20260424T082837UTC-9959cnm9ig@https://tantradance.nl/
DTSTAMP:20260424T082837Z
DESCRIPTION:Participation is only for TD Intimi members.See intimi.tantric.
 dance for more info. https://tantradance.nl/en/agenda/td-intimi-tickets/ev
 ent/945-tantric-dance-intimi-new
DTSTART:20261206T120000Z
DTEND:20261206T160000Z
LOCATION:Community Overvloed (Arkansasdreef 20\, 3565 AR Utrecht)
SUMMARY:Tantric Dance INTIMI NEW
URL:https://tantradance.nl/en/agenda/td-intimi-tickets/event/945-tantric-da
 nce-intimi-new
END:VEVENT
BEGIN:VEVENT
UID:20260424T082837UTC-9960UgxeVp@https://tantradance.nl/
DTSTAMP:20260424T082837Z
DESCRIPTION:Participation is only for TD Intimi members.See intimi.tantric.
 dance for more info. https://tantradance.nl/en/agenda/td-intimi-tickets/ev
 ent/946-tantric-dance-intimi-new
DTSTART:20270110T120000Z
DTEND:20270110T160000Z
LOCATION:Community Overvloed (Arkansasdreef 20\, 3565 AR Utrecht)
SUMMARY:Tantric Dance INTIMI NEW
URL:https://tantradance.nl/en/agenda/td-intimi-tickets/event/946-tantric-da
 nce-intimi-new
END:VEVENT
BEGIN:VEVENT
UID:20260424T082837UTC-9961EGZPu8@https://tantradance.nl/
DTSTAMP:20260424T082837Z
DESCRIPTION:Participation is only for TD Intimi members.See intimi.tantric.
 dance for more info. https://tantradance.nl/en/agenda/td-intimi-tickets/ev
 ent/947-tantric-dance-intimi-new
DTSTART:20270207T120000Z
DTEND:20270207T160000Z
LOCATION:Community Overvloed (Arkansasdreef 20\, 3565 AR Utrecht)
SUMMARY:Tantric Dance INTIMI NEW
URL:https://tantradance.nl/en/agenda/td-intimi-tickets/event/947-tantric-da
 nce-intimi-new
END:VEVENT
BEGIN:VEVENT
UID:20260424T082837UTC-99620sM7xj@https://tantradance.nl/
DTSTAMP:20260424T082837Z
DESCRIPTION:Participation is only for TD Intimi members.See intimi.tantric.
 dance for more info. https://tantradance.nl/en/agenda/td-intimi-tickets/ev
 ent/948-tantric-dance-intimi-new
DTSTART:20270307T120000Z
DTEND:20270307T160000Z
LOCATION:Community Overvloed (Arkansasdreef 20\, 3565 AR Utrecht)
SUMMARY:Tantric Dance INTIMI NEW
URL:https://tantradance.nl/en/agenda/td-intimi-tickets/event/948-tantric-da
 nce-intimi-new
END:VEVENT
BEGIN:VEVENT
UID:20260424T082837UTC-9964nRNwZU@https://tantradance.nl/
DTSTAMP:20260424T082837Z
DESCRIPTION:Participation is only for TD Intimi members.See intimi.tantric.
 dance for more info. https://tantradance.nl/en/agenda/td-intimi-tickets/ev
 ent/949-tantric-dance-intimi-new
DTSTART:20270404T110000Z
DTEND:20270404T150000Z
LOCATION:Community Overvloed (Arkansasdreef 20\, 3565 AR Utrecht)
SUMMARY:Tantric Dance INTIMI NEW
URL:https://tantradance.nl/en/agenda/td-intimi-tickets/event/949-tantric-da
 nce-intimi-new
END:VEVENT
BEGIN:VEVENT
UID:20260424T082837UTC-9965cUPf21@https://tantradance.nl/
DTSTAMP:20260424T082837Z
DESCRIPTION:Participation is only for TD Intimi members.See intimi.tantric.
 dance for more info. https://tantradance.nl/en/agenda/td-intimi-tickets/ev
 ent/950-tantric-dance-intimi-new
DTSTART:20270509T110000Z
DTEND:20270509T150000Z
LOCATION:Community Overvloed (Arkansasdreef 20\, 3565 AR Utrecht)
SUMMARY:Tantric Dance INTIMI NEW
URL:https://tantradance.nl/en/agenda/td-intimi-tickets/event/950-tantric-da
 nce-intimi-new
END:VEVENT
BEGIN:VEVENT
UID:20260424T082837UTC-99660fwbbV@https://tantradance.nl/
DTSTAMP:20260424T082837Z
DESCRIPTION:Participation is only for TD Intimi members.See intimi.tantric.
 dance for more info. https://tantradance.nl/en/agenda/td-intimi-tickets/ev
 ent/951-tantric-dance-intimi-new
DTSTART:20270606T110000Z
DTEND:20270606T150000Z
LOCATION:Community Overvloed (Arkansasdreef 20\, 3565 AR Utrecht)
SUMMARY:Tantric Dance INTIMI NEW
URL:https://tantradance.nl/en/agenda/td-intimi-tickets/event/951-tantric-da
 nce-intimi-new
END:VEVENT
BEGIN:VEVENT
UID:20260424T082837UTC-9967sPx8fU@https://tantradance.nl/
DTSTAMP:20260424T082837Z
DESCRIPTION:Participation is only for TD Intimi members.See intimi.tantric.
 dance for more info. https://tantradance.nl/en/agenda/td-intimi-tickets/ev
 ent/952-tantric-dance-intimi-utrecht
DTSTART:20261025T120000Z
DTEND:20261025T160000Z
LOCATION:Community Overvloed (Arkansasdreef 20\, 3565 AR Utrecht)
SUMMARY:Tantric Dance INTIMI Utrecht
URL:https://tantradance.nl/en/agenda/td-intimi-tickets/event/952-tantric-da
 nce-intimi-utrecht
END:VEVENT
BEGIN:VEVENT
UID:20260424T082837UTC-9968sm7VV7@https://tantradance.nl/
DTSTAMP:20260424T082837Z
DESCRIPTION:Participation is only for TD Intimi members.See intimi.tantric.
 dance for more info. https://tantradance.nl/en/agenda/td-intimi-tickets/ev
 ent/953-tantric-dance-intimi-utrecht
DTSTART:20261122T120000Z
DTEND:20261122T160000Z
LOCATION:Community Overvloed (Arkansasdreef 20\, 3565 AR Utrecht)
SUMMARY:Tantric Dance INTIMI Utrecht
URL:https://tantradance.nl/en/agenda/td-intimi-tickets/event/953-tantric-da
 nce-intimi-utrecht
END:VEVENT
BEGIN:VEVENT
UID:20260424T082837UTC-99690JVAgC@https://tantradance.nl/
DTSTAMP:20260424T082837Z
DESCRIPTION:Participation is only for TD Intimi members.See intimi.tantric.
 dance for more info. https://tantradance.nl/en/agenda/td-intimi-tickets/ev
 ent/954-tantric-dance-intimi-utrecht
DTSTART:20261220T120000Z
DTEND:20261220T160000Z
LOCATION:Community Overvloed (Arkansasdreef 20\, 3565 AR Utrecht)
SUMMARY:Tantric Dance INTIMI Utrecht
URL:https://tantradance.nl/en/agenda/td-intimi-tickets/event/954-tantric-da
 nce-intimi-utrecht
END:VEVENT
BEGIN:VEVENT
UID:20260424T082837UTC-9970x1Ti9v@https://tantradance.nl/
DTSTAMP:20260424T082837Z
DESCRIPTION:Participation is only for TD Intimi members.See intimi.tantric.
 dance for more info. https://tantradance.nl/en/agenda/td-intimi-tickets/ev
 ent/955-tantric-dance-intimi-utrecht
DTSTART:20270124T120000Z
DTEND:20270124T160000Z
LOCATION:Community Overvloed (Arkansasdreef 20\, 3565 AR Utrecht)
SUMMARY:Tantric Dance INTIMI Utrecht
URL:https://tantradance.nl/en/agenda/td-intimi-tickets/event/955-tantric-da
 nce-intimi-utrecht
END:VEVENT
BEGIN:VEVENT
UID:20260424T082837UTC-9971huXnVA@https://tantradance.nl/
DTSTAMP:20260424T082837Z
DESCRIPTION:Participation is only for TD Intimi members.See intimi.tantric.
 dance for more info. https://tantradance.nl/en/agenda/td-intimi-tickets/ev
 ent/956-tantric-dance-intimi-utrecht
DTSTART:20270228T120000Z
DTEND:20270228T160000Z
LOCATION:Community Overvloed (Arkansasdreef 20\, 3565 AR Utrecht)
SUMMARY:Tantric Dance INTIMI Utrecht
URL:https://tantradance.nl/en/agenda/td-intimi-tickets/event/956-tantric-da
 nce-intimi-utrecht
END:VEVENT
BEGIN:VEVENT
UID:20260424T082837UTC-9972Vvv1Iv@https://tantradance.nl/
DTSTAMP:20260424T082837Z
DESCRIPTION:Participation is only for TD Intimi members.See intimi.tantric.
 dance for more info. https://tantradance.nl/en/agenda/td-intimi-tickets/ev
 ent/957-tantric-dance-intimi-utrecht
DTSTART:20270321T120000Z
DTEND:20270321T160000Z
LOCATION:Community Overvloed (Arkansasdreef 20\, 3565 AR Utrecht)
SUMMARY:Tantric Dance INTIMI Utrecht
URL:https://tantradance.nl/en/agenda/td-intimi-tickets/event/957-tantric-da
 nce-intimi-utrecht
END:VEVENT
BEGIN:VEVENT
UID:20260424T082837UTC-9973O39MKJ@https://tantradance.nl/
DTSTAMP:20260424T082837Z
DESCRIPTION:Participation is only for TD Intimi members.See intimi.tantric.
 dance for more info. https://tantradance.nl/en/agenda/td-intimi-tickets/ev
 ent/958-tantric-dance-intimi-utrecht
DTSTART:20270418T110000Z
DTEND:20270418T150000Z
LOCATION:Community Overvloed (Arkansasdreef 20\, 3565 AR Utrecht)
SUMMARY:Tantric Dance INTIMI Utrecht
URL:https://tantradance.nl/en/agenda/td-intimi-tickets/event/958-tantric-da
 nce-intimi-utrecht
END:VEVENT
BEGIN:VEVENT
UID:20260424T082837UTC-99749bXVzD@https://tantradance.nl/
DTSTAMP:20260424T082837Z
DESCRIPTION:Participation is only for TD Intimi members.See intimi.tantric.
 dance for more info. https://tantradance.nl/en/agenda/td-intimi-tickets/ev
 ent/959-tantric-dance-intimi-utrecht
DTSTART:20270530T110000Z
DTEND:20270530T150000Z
LOCATION:Community Overvloed (Arkansasdreef 20\, 3565 AR Utrecht)
SUMMARY:Tantric Dance INTIMI Utrecht
URL:https://tantradance.nl/en/agenda/td-intimi-tickets/event/959-tantric-da
 nce-intimi-utrecht
END:VEVENT
BEGIN:VEVENT
UID:20260424T082837UTC-9975V2R5RS@https://tantradance.nl/
DTSTAMP:20260424T082837Z
DESCRIPTION:Participation is only for TD Intimi members.See intimi.tantric.
 dance for more info. https://tantradance.nl/en/agenda/td-intimi-tickets/ev
 ent/960-tantric-dance-intimi-utrecht
DTSTART:20270627T110000Z
DTEND:20270627T150000Z
LOCATION:Community Overvloed (Arkansasdreef 20\, 3565 AR Utrecht)
SUMMARY:Tantric Dance INTIMI Utrecht
URL:https://tantradance.nl/en/agenda/td-intimi-tickets/event/960-tantric-da
 nce-intimi-utrecht
END:VEVENT
BEGIN:VEVENT
UID:20260424T082837UTC-9976oCJre9@https://tantradance.nl/
DTSTAMP:20260424T082837Z
DESCRIPTION:Participation is only for TD INTIMI friends.19:00 ~ OPEN (19:30
  deur DICHT!)19:30 ~ Start &amp\; warmingup20:00 ~ Free dance space22:30 ~
  EndSee intimi.tantric.dance for more info. https://tantradance.nl/en/agen
 da/td-intimi-tickets/event/961-tantric-dance-intimi-utrecht-vriendenavond
DTSTART:20261002T173000Z
DTEND:20261002T203000Z
LOCATION:Community Overvloed (Arkansasdreef 20\, 3565 AR Utrecht)
SUMMARY:Tantric Dance INTIMI Utrecht vriendenavond
URL:https://tantradance.nl/en/agenda/td-intimi-tickets/event/961-tantric-da
 nce-intimi-utrecht-vriendenavond
END:VEVENT
BEGIN:VEVENT
UID:20260424T082837UTC-9977UkTuit@https://tantradance.nl/
DTSTAMP:20260424T082837Z
DESCRIPTION:Participation is only for TD INTIMI friends.19:00 ~ OPEN (19:30
  deur DICHT!)19:30 ~ Start &amp\; warmingup20:00 ~ Free dance space22:30 ~
  EndSee intimi.tantric.dance for more info. https://tantradance.nl/en/agen
 da/td-intimi-tickets/event/970-tantric-dance-intimi-vriendenavond
DTSTART:20261113T183000Z
DTEND:20261113T213000Z
LOCATION:Community Overvloed (Arkansasdreef 20\, 3565 AR Utrecht)
SUMMARY:Tantric Dance INTIMI vriendenavond
URL:https://tantradance.nl/en/agenda/td-intimi-tickets/event/970-tantric-da
 nce-intimi-vriendenavond
END:VEVENT
BEGIN:VEVENT
UID:20260424T082837UTC-9979vN2VpB@https://tantradance.nl/
DTSTAMP:20260424T082837Z
DESCRIPTION:Participation is only for TD INTIMI friends.19:00 ~ OPEN (19:30
  deur DICHT!)19:30 ~ Start &amp\; warmingup20:00 ~ Free dance space22:30 ~
  EndSee intimi.tantric.dance for more info. https://tantradance.nl/en/agen
 da/td-intimi-tickets/event/971-tantric-dance-intimi-vriendenavond
DTSTART:20261211T183000Z
DTEND:20261211T213000Z
LOCATION:Community Overvloed (Arkansasdreef 20\, 3565 AR Utrecht)
SUMMARY:Tantric Dance INTIMI vriendenavond
URL:https://tantradance.nl/en/agenda/td-intimi-tickets/event/971-tantric-da
 nce-intimi-vriendenavond
END:VEVENT
BEGIN:VEVENT
UID:20260424T082837UTC-99800geX6v@https://tantradance.nl/
DTSTAMP:20260424T082837Z
DESCRIPTION:Participation is only for TD INTIMI friends.19:00 ~ OPEN (19:30
  deur DICHT!)19:30 ~ Start &amp\; warmingup20:00 ~ Free dance space22:30 ~
  EndSee intimi.tantric.dance for more info. https://tantradance.nl/en/agen
 da/td-intimi-tickets/event/972-tantric-dance-intimi-vriendenavond
DTSTART:20270108T183000Z
DTEND:20270108T213000Z
LOCATION:Community Overvloed (Arkansasdreef 20\, 3565 AR Utrecht)
SUMMARY:Tantric Dance INTIMI vriendenavond
URL:https://tantradance.nl/en/agenda/td-intimi-tickets/event/972-tantric-da
 nce-intimi-vriendenavond
END:VEVENT
BEGIN:VEVENT
UID:20260424T082837UTC-9982NUUFov@https://tantradance.nl/
DTSTAMP:20260424T082837Z
DESCRIPTION:Participation is only for TD INTIMI friends.19:00 ~ OPEN (19:30
  deur DICHT!)19:30 ~ Start &amp\; warmingup20:00 ~ Free dance space22:30 ~
  EndSee intimi.tantric.dance for more info. https://tantradance.nl/en/agen
 da/td-intimi-tickets/event/973-tantric-dance-intimi-vriendenavond
DTSTART:20270212T183000Z
DTEND:20270212T213000Z
LOCATION:Community Overvloed (Arkansasdreef 20\, 3565 AR Utrecht)
SUMMARY:Tantric Dance INTIMI vriendenavond
URL:https://tantradance.nl/en/agenda/td-intimi-tickets/event/973-tantric-da
 nce-intimi-vriendenavond
END:VEVENT
BEGIN:VEVENT
UID:20260424T082837UTC-9984259F28@https://tantradance.nl/
DTSTAMP:20260424T082837Z
DESCRIPTION:Participation is only for TD INTIMI friends.19:00 ~ OPEN (19:30
  deur DICHT!)19:30 ~ Start &amp\; warmingup20:00 ~ Free dance space22:30 ~
  EndSee intimi.tantric.dance for more info. https://tantradance.nl/en/agen
 da/td-intimi-tickets/event/974-tantric-dance-intimi-vriendenavond
DTSTART:20270312T183000Z
DTEND:20270312T213000Z
LOCATION:Community Overvloed (Arkansasdreef 20\, 3565 AR Utrecht)
SUMMARY:Tantric Dance INTIMI vriendenavond
URL:https://tantradance.nl/en/agenda/td-intimi-tickets/event/974-tantric-da
 nce-intimi-vriendenavond
END:VEVENT
BEGIN:VEVENT
UID:20260424T082837UTC-9985JKUwBg@https://tantradance.nl/
DTSTAMP:20260424T082837Z
DESCRIPTION:Participation is only for TD INTIMI friends.19:00 ~ OPEN (19:30
  deur DICHT!)19:30 ~ Start &amp\; warmingup20:00 ~ Free dance space22:30 ~
  EndSee intimi.tantric.dance for more info. https://tantradance.nl/en/agen
 da/td-intimi-tickets/event/975-tantric-dance-intimi-vriendenavond
DTSTART:20270409T173000Z
DTEND:20270409T203000Z
LOCATION:Community Overvloed (Arkansasdreef 20\, 3565 AR Utrecht)
SUMMARY:Tantric Dance INTIMI vriendenavond
URL:https://tantradance.nl/en/agenda/td-intimi-tickets/event/975-tantric-da
 nce-intimi-vriendenavond
END:VEVENT
BEGIN:VEVENT
UID:20260424T082837UTC-9986Cw1UCe@https://tantradance.nl/
DTSTAMP:20260424T082837Z
DESCRIPTION:Participation is only for TD INTIMI friends.19:00 ~ OPEN (19:30
  deur DICHT!)19:30 ~ Start &amp\; warmingup20:00 ~ Free dance space22:30 ~
  EndSee intimi.tantric.dance for more info. https://tantradance.nl/en/agen
 da/td-intimi-tickets/event/976-tantric-dance-intimi-vriendenavond
DTSTART:20270514T173000Z
DTEND:20270514T203000Z
LOCATION:Community Overvloed (Arkansasdreef 20\, 3565 AR Utrecht)
SUMMARY:Tantric Dance INTIMI vriendenavond
URL:https://tantradance.nl/en/agenda/td-intimi-tickets/event/976-tantric-da
 nce-intimi-vriendenavond
END:VEVENT
BEGIN:VEVENT
UID:20260424T082837UTC-9987UZ33Og@https://tantradance.nl/
DTSTAMP:20260424T082837Z
DESCRIPTION:Participation is only for TD INTIMI friends.19:00 ~ OPEN (19:30
  deur DICHT!)19:30 ~ Start &amp\; warmingup20:00 ~ Free dance space22:30 ~
  EndSee intimi.tantric.dance for more info. https://tantradance.nl/en/agen
 da/td-intimi-tickets/event/977-tantric-dance-intimi-utrecht-vriendenavond
DTSTART:20270611T173000Z
DTEND:20270611T203000Z
LOCATION:Community Overvloed (Arkansasdreef 20\, 3565 AR Utrecht)
SUMMARY:Tantric Dance INTIMI Utrecht vriendenavond
URL:https://tantradance.nl/en/agenda/td-intimi-tickets/event/977-tantric-da
 nce-intimi-utrecht-vriendenavond
END:VEVENT
BEGIN:VEVENT
UID:20260424T082837UTC-9989LSO8lT@https://tantradance.nl/
DTSTAMP:20260424T082837Z
DESCRIPTION:Participation is only for TD Intimi members.See intimi.tantric.
 dance for more info. https://tantradance.nl/en/agenda/td-intimi-tickets/ev
 ent/979-tantric-dance-intimi-utrecht
DTSTART:20260927T110000Z
DTEND:20260927T150000Z
LOCATION:Danscentrum Utrecht (DCU MGR) (Mgr. van de Weteringstraat 13A\, 35
 81 EA Utrecht)
SUMMARY:Tantric Dance INTIMI Utrecht
URL:https://tantradance.nl/en/agenda/td-intimi-tickets/event/979-tantric-da
 nce-intimi-utrecht
END:VEVENT
BEGIN:VEVENT
UID:20260424T082837UTC-9990Btu2hd@https://tantradance.nl/
DTSTAMP:20260424T082837Z
DESCRIPTION:Participation is for those that are invited personally.18:00 ~ 
 Potluck19:30 ~ Start &amp\; warming up&nbsp\;(20h door closed!)20:00 ~ Fre
 e dance space22:30 ~ End https://tantradance.nl/en/agenda/td-intimi-ticket
 s/event/980-tantric-dance-intimi-reunion-season-start
DTSTART:20260911T173000Z
DTEND:20260911T203000Z
LOCATION:Community Overvloed (Arkansasdreef 20\, 3565 AR Utrecht)
SUMMARY:Tantric Dance INTIMI REUNION & Season start
URL:https://tantradance.nl/en/agenda/td-intimi-tickets/event/980-tantric-da
 nce-intimi-reunion-season-start
END:VEVENT
END:VCALENDAR
