BEGIN:VCALENDAR
VERSION:2.0
PRODID:-//https://tantradance.nl///NONSGML kigkonsult.se iCalcreator 2.10.15//
METHOD:PUBLISH
BEGIN:VEVENT
UID:20260420T185032UTC-3545nx9vpW@https://tantradance.nl/
DTSTAMP:20260420T185032Z
DESCRIPTION:Exclusief toegankelijk voor TD INTIMI vrienden.\n19:00 ~ OPEN (
 19:30 deur DICHT!)19:30 ~ Start &amp\; in dansen20:00 ~ Vrij dansen22:30 ~
  Einde\nZie intimi.tantricdance.nl voor meer info. https://tantradance.nl/
 nl/agenda/intimivrienden/evenement/938-tantric-dance-intimi-utrecht-vriend
 enavond
DTSTART:20260508T173000Z
DTEND:20260508T203000Z
LOCATION:Community Overvloed (Arkansasdreef 20\, 3565 AR Utrecht)
SUMMARY:Tantric Dance INTIMI Utrecht vriendenavond
URL:https://tantradance.nl/nl/agenda/intimivrienden/evenement/938-tantric-d
 ance-intimi-utrecht-vriendenavond
END:VEVENT
BEGIN:VEVENT
UID:20260420T185032UTC-3547VNAtSr@https://tantradance.nl/
DTSTAMP:20260420T185032Z
DESCRIPTION:Exclusief toegankelijk voor wie persoonlijk is uitgenodigd.\n18
 :00 ~ Potluck19:30 ~ Start &amp\; in dansen&nbsp\;(20:00 deur DICHT!)20:00
  ~ Vrij dansen22:30 ~ Einde https://tantradance.nl/nl/agenda/intimivriende
 n/evenement/939-tantric-dance-intimi-reuenie
DTSTART:20260612T173000Z
DTEND:20260612T203000Z
LOCATION:Community Overvloed (Arkansasdreef 20\, 3565 AR Utrecht)
SUMMARY:Tantric Dance INTIMI REÜNIE
URL:https://tantradance.nl/nl/agenda/intimivrienden/evenement/939-tantric-d
 ance-intimi-reuenie
END:VEVENT
BEGIN:VEVENT
UID:20260420T185032UTC-3548NdwrUl@https://tantradance.nl/
DTSTAMP:20260420T185032Z
DESCRIPTION:Exclusief toegankelijk voor TD INTIMI vrienden.\n19:00 ~ OPEN (
 19:30 deur DICHT!)19:30 ~ Start &amp\; in dansen20:00 ~ Vrij dansen22:30 ~
  Einde\nZie intimi.tantricdance.nl voor meer info. https://tantradance.nl/
 nl/agenda/intimivrienden/evenement/961-tantric-dance-intimi-utrecht-vriend
 enavond
DTSTART:20261002T173000Z
DTEND:20261002T203000Z
LOCATION:Community Overvloed (Arkansasdreef 20\, 3565 AR Utrecht)
SUMMARY:Tantric Dance INTIMI Utrecht vriendenavond
URL:https://tantradance.nl/nl/agenda/intimivrienden/evenement/961-tantric-d
 ance-intimi-utrecht-vriendenavond
END:VEVENT
BEGIN:VEVENT
UID:20260420T185032UTC-3549KjVXxl@https://tantradance.nl/
DTSTAMP:20260420T185032Z
DESCRIPTION:Exclusief&nbsp\;toegankelijk voor TD INTIMI vrienden.\n19:00 ~ 
 OPEN (19:30 deur DICHT!)19:30 ~ Start &amp\; in dansen20:00 ~ Vrij dansen2
 2:30 ~ Einde\nZie intimi.tantricdance.nl voor meer info. https://tantradan
 ce.nl/nl/agenda/intimivrienden/evenement/970-tantric-dance-intimi-utrecht-
 vriendenavond
DTSTART:20261113T183000Z
DTEND:20261113T213000Z
LOCATION:Community Overvloed (Arkansasdreef 20\, 3565 AR Utrecht)
SUMMARY:Tantric Dance INTIMI Utrecht vriendenavond
URL:https://tantradance.nl/nl/agenda/intimivrienden/evenement/970-tantric-d
 ance-intimi-utrecht-vriendenavond
END:VEVENT
BEGIN:VEVENT
UID:20260420T185032UTC-3551HnP8Av@https://tantradance.nl/
DTSTAMP:20260420T185032Z
DESCRIPTION:Exclusief&nbsp\;toegankelijk voor TD INTIMI vrienden.\n19:00 ~ 
 OPEN (19:30 deur DICHT!)19:30 ~ Start &amp\; in dansen20:00 ~ Vrij dansen2
 2:30 ~ Einde\nZie intimi.tantricdance.nl voor meer info. https://tantradan
 ce.nl/nl/agenda/intimivrienden/evenement/971-tantric-dance-intimi-utrecht-
 vriendenavond
DTSTART:20261211T183000Z
DTEND:20261211T213000Z
LOCATION:Community Overvloed (Arkansasdreef 20\, 3565 AR Utrecht)
SUMMARY:Tantric Dance INTIMI Utrecht vriendenavond
URL:https://tantradance.nl/nl/agenda/intimivrienden/evenement/971-tantric-d
 ance-intimi-utrecht-vriendenavond
END:VEVENT
BEGIN:VEVENT
UID:20260420T185032UTC-3552HDpcC6@https://tantradance.nl/
DTSTAMP:20260420T185032Z
DESCRIPTION:Exclusief&nbsp\;toegankelijk voor TD INTIMI vrienden.\n19:00 ~ 
 OPEN (19:30 deur DICHT!)19:30 ~ Start &amp\; in dansen20:00 ~ Vrij dansen2
 2:30 ~ Einde\nZie intimi.tantricdance.nl voor meer info. https://tantradan
 ce.nl/nl/agenda/intimivrienden/evenement/972-tantric-dance-intimi-utrecht-
 vriendenavond
DTSTART:20270108T183000Z
DTEND:20270108T213000Z
LOCATION:Community Overvloed (Arkansasdreef 20\, 3565 AR Utrecht)
SUMMARY:Tantric Dance INTIMI Utrecht vriendenavond
URL:https://tantradance.nl/nl/agenda/intimivrienden/evenement/972-tantric-d
 ance-intimi-utrecht-vriendenavond
END:VEVENT
BEGIN:VEVENT
UID:20260420T185032UTC-35536Us3hR@https://tantradance.nl/
DTSTAMP:20260420T185032Z
DESCRIPTION:Exclusief&nbsp\;toegankelijk voor TD INTIMI vrienden.\n19:00 ~ 
 OPEN (19:30 deur DICHT!)19:30 ~ Start &amp\; in dansen20:00 ~ Vrij dansen2
 2:30 ~ Einde\nZie intimi.tantricdance.nl voor meer info. https://tantradan
 ce.nl/nl/agenda/intimivrienden/evenement/973-tantric-dance-intimi-utrecht-
 vriendenavond
DTSTART:20270212T183000Z
DTEND:20270212T213000Z
LOCATION:Community Overvloed (Arkansasdreef 20\, 3565 AR Utrecht)
SUMMARY:Tantric Dance INTIMI Utrecht vriendenavond
URL:https://tantradance.nl/nl/agenda/intimivrienden/evenement/973-tantric-d
 ance-intimi-utrecht-vriendenavond
END:VEVENT
BEGIN:VEVENT
UID:20260420T185032UTC-3555iO9u8F@https://tantradance.nl/
DTSTAMP:20260420T185032Z
DESCRIPTION:Exclusief&nbsp\;toegankelijk voor TD INTIMI vrienden.\n19:00 ~ 
 OPEN (19:30 deur DICHT!)19:30 ~ Start &amp\; in dansen20:00 ~ Vrij dansen2
 2:30 ~ Einde\nZie intimi.tantricdance.nl voor meer info. https://tantradan
 ce.nl/nl/agenda/intimivrienden/evenement/974-tantric-dance-intimi-utrecht-
 vriendenavond
DTSTART:20270312T183000Z
DTEND:20270312T213000Z
LOCATION:Community Overvloed (Arkansasdreef 20\, 3565 AR Utrecht)
SUMMARY:Tantric Dance INTIMI Utrecht vriendenavond
URL:https://tantradance.nl/nl/agenda/intimivrienden/evenement/974-tantric-d
 ance-intimi-utrecht-vriendenavond
END:VEVENT
BEGIN:VEVENT
UID:20260420T185032UTC-35565LK3De@https://tantradance.nl/
DTSTAMP:20260420T185032Z
DESCRIPTION:Exclusief&nbsp\;toegankelijk voor TD INTIMI vrienden.\n19:00 ~ 
 OPEN (19:30 deur DICHT!)19:30 ~ Start &amp\; in dansen20:00 ~ Vrij dansen2
 2:30 ~ Einde\nZie intimi.tantricdance.nl voor meer info. https://tantradan
 ce.nl/nl/agenda/intimivrienden/evenement/975-tantric-dance-intimi-utrecht-
 vriendenavond
DTSTART:20270409T173000Z
DTEND:20270409T203000Z
LOCATION:Community Overvloed (Arkansasdreef 20\, 3565 AR Utrecht)
SUMMARY:Tantric Dance INTIMI Utrecht vriendenavond
URL:https://tantradance.nl/nl/agenda/intimivrienden/evenement/975-tantric-d
 ance-intimi-utrecht-vriendenavond
END:VEVENT
BEGIN:VEVENT
UID:20260420T185032UTC-3558AnVWZA@https://tantradance.nl/
DTSTAMP:20260420T185032Z
DESCRIPTION:Exclusief&nbsp\;toegankelijk voor TD INTIMI vrienden.\n19:00 ~ 
 OPEN (19:30 deur DICHT!)19:30 ~ Start &amp\; in dansen20:00 ~ Vrij dansen2
 2:30 ~ Einde\nZie intimi.tantricdance.nl voor meer info. https://tantradan
 ce.nl/nl/agenda/intimivrienden/evenement/976-tantric-dance-intimi-utrecht-
 vriendenavond
DTSTART:20270514T173000Z
DTEND:20270514T203000Z
LOCATION:Community Overvloed (Arkansasdreef 20\, 3565 AR Utrecht)
SUMMARY:Tantric Dance INTIMI Utrecht vriendenavond
URL:https://tantradance.nl/nl/agenda/intimivrienden/evenement/976-tantric-d
 ance-intimi-utrecht-vriendenavond
END:VEVENT
BEGIN:VEVENT
UID:20260420T185032UTC-3559ZULt4b@https://tantradance.nl/
DTSTAMP:20260420T185032Z
DESCRIPTION:Exclusief&nbsp\;toegankelijk voor TD INTIMI vrienden.\n19:00 ~ 
 OPEN (19:30 deur DICHT!)19:30 ~ Start &amp\; in dansen20:00 ~ Vrij dansen2
 2:30 ~ Einde\nZie intimi.tantricdance.nl voor meer info. https://tantradan
 ce.nl/nl/agenda/intimivrienden/evenement/977-tantric-dance-intimi-utrecht-
 vriendenavond
DTSTART:20270611T173000Z
DTEND:20270611T203000Z
LOCATION:Community Overvloed (Arkansasdreef 20\, 3565 AR Utrecht)
SUMMARY:Tantric Dance INTIMI Utrecht vriendenavond
URL:https://tantradance.nl/nl/agenda/intimivrienden/evenement/977-tantric-d
 ance-intimi-utrecht-vriendenavond
END:VEVENT
BEGIN:VEVENT
UID:20260420T185032UTC-35618UbSF2@https://tantradance.nl/
DTSTAMP:20260420T185032Z
DESCRIPTION:Exclusief toegankelijk voor wie persoonlijk is uitgenodigd.\n18
 :00 ~ Potluck19:30 ~ Start &amp\; in dansen&nbsp\;(20:00 deur DICHT!)20:00
  ~ Vrij dansen22:30 ~ Einde https://tantradance.nl/nl/agenda/intimivriende
 n/evenement/980-tantric-dance-intimi-reuenie-seizoen-start
DTSTART:20260911T173000Z
DTEND:20260911T203000Z
LOCATION:Community Overvloed (Arkansasdreef 20\, 3565 AR Utrecht)
SUMMARY:Tantric Dance INTIMI REÜNIE & Seizoen start
URL:https://tantradance.nl/nl/agenda/intimivrienden/evenement/980-tantric-d
 ance-intimi-reuenie-seizoen-start
END:VEVENT
END:VCALENDAR
