BEGIN:VCALENDAR
VERSION:2.0
PRODID:-//https://tantradance.nl///NONSGML kigkonsult.se iCalcreator 2.10.15//
METHOD:PUBLISH
BEGIN:VEVENT
UID:20260420T185032UTC-3059vDNOut@https://tantradance.nl/
DTSTAMP:20260420T185032Z
DESCRIPTION:Alleen toegankelijk voor TD Intimi leden.Zie intimi.tantricdanc
 e.nl voor meer info. https://tantradance.nl/nl/agenda/td-intimi-tickets/ev
 enement/800-tantric-dance-intimi-utrecht-o-avond
DTSTART:20260524T170000Z
DTEND:20260524T203000Z
LOCATION:Community Overvloed (Arkansasdreef 20\, 3565 AR Utrecht)
SUMMARY:Tantric Dance INTIMI Utrecht • avond
URL:https://tantradance.nl/nl/agenda/td-intimi-tickets/evenement/800-tantri
 c-dance-intimi-utrecht-o-avond
END:VEVENT
BEGIN:VEVENT
UID:20260420T185032UTC-3060bdcUHd@https://tantradance.nl/
DTSTAMP:20260420T185032Z
DESCRIPTION:Alleen toegankelijk voor TD Intimi leden.Zie intimi.tantricdanc
 e.nl voor meer info. https://tantradance.nl/nl/agenda/td-intimi-tickets/ev
 enement/801-tantric-dance-intimi-utrecht-o-avond
DTSTART:20260628T170000Z
DTEND:20260628T203000Z
LOCATION:Community Overvloed (Arkansasdreef 20\, 3565 AR Utrecht)
SUMMARY:Tantric Dance INTIMI Utrecht • avond
URL:https://tantradance.nl/nl/agenda/td-intimi-tickets/evenement/801-tantri
 c-dance-intimi-utrecht-o-avond
END:VEVENT
BEGIN:VEVENT
UID:20260420T185032UTC-3061c4gi5u@https://tantradance.nl/
DTSTAMP:20260420T185032Z
DESCRIPTION:Alleen toegankelijk voor TD Intimi leden.Zie intimi.tantricdanc
 e.nl voor meer info. https://tantradance.nl/nl/agenda/td-intimi-tickets/ev
 enement/809-tantric-dance-intimi-utrecht-o-middag
DTSTART:20260524T110000Z
DTEND:20260524T150000Z
LOCATION:Community Overvloed (Arkansasdreef 20\, 3565 AR Utrecht)
SUMMARY:Tantric Dance INTIMI Utrecht • middag
URL:https://tantradance.nl/nl/agenda/td-intimi-tickets/evenement/809-tantri
 c-dance-intimi-utrecht-o-middag
END:VEVENT
BEGIN:VEVENT
UID:20260420T185032UTC-3062tBRUSD@https://tantradance.nl/
DTSTAMP:20260420T185032Z
DESCRIPTION:Alleen toegankelijk voor TD Intimi leden.Zie intimi.tantricdanc
 e.nl voor meer info. https://tantradance.nl/nl/agenda/td-intimi-tickets/ev
 enement/810-tantric-dance-intimi-utrecht-o-middag
DTSTART:20260628T110000Z
DTEND:20260628T150000Z
LOCATION:Community Overvloed (Arkansasdreef 20\, 3565 AR Utrecht)
SUMMARY:Tantric Dance INTIMI Utrecht • middag
URL:https://tantradance.nl/nl/agenda/td-intimi-tickets/evenement/810-tantri
 c-dance-intimi-utrecht-o-middag
END:VEVENT
BEGIN:VEVENT
UID:20260420T185032UTC-3063Fhl3pv@https://tantradance.nl/
DTSTAMP:20260420T185032Z
DESCRIPTION:Exclusief toegankelijk voor TD INTIMI vrienden.\n19:00 ~ OPEN (
 19:30 deur DICHT!)19:30 ~ Start &amp\; in dansen20:00 ~ Vrij dansen22:30 ~
  Einde\nZie intimi.tantricdance.nl voor meer info. https://tantradance.nl/
 nl/agenda/td-intimi-tickets/evenement/938-tantric-dance-intimi-utrecht-vri
 endenavond
DTSTART:20260508T173000Z
DTEND:20260508T203000Z
LOCATION:Community Overvloed (Arkansasdreef 20\, 3565 AR Utrecht)
SUMMARY:Tantric Dance INTIMI Utrecht vriendenavond
URL:https://tantradance.nl/nl/agenda/td-intimi-tickets/evenement/938-tantri
 c-dance-intimi-utrecht-vriendenavond
END:VEVENT
BEGIN:VEVENT
UID:20260420T185032UTC-3064c5vjr5@https://tantradance.nl/
DTSTAMP:20260420T185032Z
DESCRIPTION:Exclusief toegankelijk voor wie persoonlijk is uitgenodigd.\n18
 :00 ~ Potluck19:30 ~ Start &amp\; in dansen&nbsp\;(20:00 deur DICHT!)20:00
  ~ Vrij dansen22:30 ~ Einde https://tantradance.nl/nl/agenda/td-intimi-tic
 kets/evenement/939-tantric-dance-intimi-reuenie
DTSTART:20260612T173000Z
DTEND:20260612T203000Z
LOCATION:Community Overvloed (Arkansasdreef 20\, 3565 AR Utrecht)
SUMMARY:Tantric Dance INTIMI REÜNIE
URL:https://tantradance.nl/nl/agenda/td-intimi-tickets/evenement/939-tantri
 c-dance-intimi-reuenie
END:VEVENT
BEGIN:VEVENT
UID:20260420T185032UTC-30656knefs@https://tantradance.nl/
DTSTAMP:20260420T185032Z
DESCRIPTION:Alleen toegankelijk voor TD Intimi leden.Zie intimi.tantricdanc
 e.nl voor meer info. https://tantradance.nl/nl/agenda/td-intimi-tickets/ev
 enement/941-tantric-dance-intimi-utrecht-o-middag
DTSTART:20260927T110000Z
DTEND:20260927T150000Z
LOCATION:Community Overvloed (Arkansasdreef 20\, 3565 AR Utrecht)
SUMMARY:Tantric Dance INTIMI Utrecht • middag
URL:https://tantradance.nl/nl/agenda/td-intimi-tickets/evenement/941-tantri
 c-dance-intimi-utrecht-o-middag
END:VEVENT
BEGIN:VEVENT
UID:20260420T185032UTC-3066WMksjE@https://tantradance.nl/
DTSTAMP:20260420T185032Z
DESCRIPTION:Alleen toegankelijk voor TD Intimi leden.Zie intimi.tantricdanc
 e.nl voor meer info. https://tantradance.nl/nl/agenda/td-intimi-tickets/ev
 enement/942-tantric-dance-intimi-utrecht-new
DTSTART:20260906T110000Z
DTEND:20260906T150000Z
LOCATION:Community Overvloed (Arkansasdreef 20\, 3565 AR Utrecht)
SUMMARY:Tantric Dance INTIMI Utrecht NEW
URL:https://tantradance.nl/nl/agenda/td-intimi-tickets/evenement/942-tantri
 c-dance-intimi-utrecht-new
END:VEVENT
BEGIN:VEVENT
UID:20260420T185032UTC-3066jOFAoF@https://tantradance.nl/
DTSTAMP:20260420T185032Z
DESCRIPTION:Alleen toegankelijk voor TD Intimi leden.Zie intimi.tantricdanc
 e.nl voor meer info. https://tantradance.nl/nl/agenda/td-intimi-tickets/ev
 enement/943-tantric-dance-intimi-utrecht-new
DTSTART:20261004T110000Z
DTEND:20261004T150000Z
LOCATION:Community Overvloed (Arkansasdreef 20\, 3565 AR Utrecht)
SUMMARY:Tantric Dance INTIMI Utrecht NEW
URL:https://tantradance.nl/nl/agenda/td-intimi-tickets/evenement/943-tantri
 c-dance-intimi-utrecht-new
END:VEVENT
BEGIN:VEVENT
UID:20260420T185032UTC-30678D94mF@https://tantradance.nl/
DTSTAMP:20260420T185032Z
DESCRIPTION:Alleen toegankelijk voor TD Intimi leden.Zie intimi.tantricdanc
 e.nl voor meer info. https://tantradance.nl/nl/agenda/td-intimi-tickets/ev
 enement/944-tantric-dance-intimi-utrecht-new
DTSTART:20261108T120000Z
DTEND:20261108T160000Z
LOCATION:Community Overvloed (Arkansasdreef 20\, 3565 AR Utrecht)
SUMMARY:Tantric Dance INTIMI Utrecht NEW
URL:https://tantradance.nl/nl/agenda/td-intimi-tickets/evenement/944-tantri
 c-dance-intimi-utrecht-new
END:VEVENT
BEGIN:VEVENT
UID:20260420T185032UTC-3068s1cJ50@https://tantradance.nl/
DTSTAMP:20260420T185032Z
DESCRIPTION:Alleen toegankelijk voor TD Intimi leden.Zie intimi.tantricdanc
 e.nl voor meer info. https://tantradance.nl/nl/agenda/td-intimi-tickets/ev
 enement/945-tantric-dance-intimi-utrecht-new
DTSTART:20261206T120000Z
DTEND:20261206T160000Z
LOCATION:Community Overvloed (Arkansasdreef 20\, 3565 AR Utrecht)
SUMMARY:Tantric Dance INTIMI Utrecht NEW
URL:https://tantradance.nl/nl/agenda/td-intimi-tickets/evenement/945-tantri
 c-dance-intimi-utrecht-new
END:VEVENT
BEGIN:VEVENT
UID:20260420T185032UTC-3069I62NBr@https://tantradance.nl/
DTSTAMP:20260420T185032Z
DESCRIPTION:Alleen toegankelijk voor TD Intimi leden.Zie intimi.tantricdanc
 e.nl voor meer info. https://tantradance.nl/nl/agenda/td-intimi-tickets/ev
 enement/946-tantric-dance-intimi-utrecht-new
DTSTART:20270110T120000Z
DTEND:20270110T160000Z
LOCATION:Community Overvloed (Arkansasdreef 20\, 3565 AR Utrecht)
SUMMARY:Tantric Dance INTIMI Utrecht NEW
URL:https://tantradance.nl/nl/agenda/td-intimi-tickets/evenement/946-tantri
 c-dance-intimi-utrecht-new
END:VEVENT
BEGIN:VEVENT
UID:20260420T185032UTC-3071X6lgD4@https://tantradance.nl/
DTSTAMP:20260420T185032Z
DESCRIPTION:Alleen toegankelijk voor TD Intimi leden.Zie intimi.tantricdanc
 e.nl voor meer info. https://tantradance.nl/nl/agenda/td-intimi-tickets/ev
 enement/947-tantric-dance-intimi-utrecht-new
DTSTART:20270207T120000Z
DTEND:20270207T160000Z
LOCATION:Community Overvloed (Arkansasdreef 20\, 3565 AR Utrecht)
SUMMARY:Tantric Dance INTIMI Utrecht NEW
URL:https://tantradance.nl/nl/agenda/td-intimi-tickets/evenement/947-tantri
 c-dance-intimi-utrecht-new
END:VEVENT
BEGIN:VEVENT
UID:20260420T185032UTC-3072E69Ebp@https://tantradance.nl/
DTSTAMP:20260420T185032Z
DESCRIPTION:Alleen toegankelijk voor TD Intimi leden.Zie intimi.tantricdanc
 e.nl voor meer info. https://tantradance.nl/nl/agenda/td-intimi-tickets/ev
 enement/948-tantric-dance-intimi-utrecht-new
DTSTART:20270307T120000Z
DTEND:20270307T160000Z
LOCATION:Community Overvloed (Arkansasdreef 20\, 3565 AR Utrecht)
SUMMARY:Tantric Dance INTIMI Utrecht NEW
URL:https://tantradance.nl/nl/agenda/td-intimi-tickets/evenement/948-tantri
 c-dance-intimi-utrecht-new
END:VEVENT
BEGIN:VEVENT
UID:20260420T185032UTC-3073ZfXAoC@https://tantradance.nl/
DTSTAMP:20260420T185032Z
DESCRIPTION:Alleen toegankelijk voor TD Intimi leden.Zie intimi.tantricdanc
 e.nl voor meer info. https://tantradance.nl/nl/agenda/td-intimi-tickets/ev
 enement/949-tantric-dance-intimi-utrecht-new
DTSTART:20270404T110000Z
DTEND:20270404T150000Z
LOCATION:Community Overvloed (Arkansasdreef 20\, 3565 AR Utrecht)
SUMMARY:Tantric Dance INTIMI Utrecht NEW
URL:https://tantradance.nl/nl/agenda/td-intimi-tickets/evenement/949-tantri
 c-dance-intimi-utrecht-new
END:VEVENT
BEGIN:VEVENT
UID:20260420T185032UTC-3074TUNuEu@https://tantradance.nl/
DTSTAMP:20260420T185032Z
DESCRIPTION:Alleen toegankelijk voor TD Intimi leden.Zie intimi.tantricdanc
 e.nl voor meer info. https://tantradance.nl/nl/agenda/td-intimi-tickets/ev
 enement/950-tantric-dance-intimi-utrecht-new
DTSTART:20270509T110000Z
DTEND:20270509T150000Z
LOCATION:Community Overvloed (Arkansasdreef 20\, 3565 AR Utrecht)
SUMMARY:Tantric Dance INTIMI Utrecht NEW
URL:https://tantradance.nl/nl/agenda/td-intimi-tickets/evenement/950-tantri
 c-dance-intimi-utrecht-new
END:VEVENT
BEGIN:VEVENT
UID:20260420T185032UTC-3076vavbGl@https://tantradance.nl/
DTSTAMP:20260420T185032Z
DESCRIPTION:Alleen toegankelijk voor TD Intimi leden.Zie intimi.tantricdanc
 e.nl voor meer info. https://tantradance.nl/nl/agenda/td-intimi-tickets/ev
 enement/951-tantric-dance-intimi-utrecht-new
DTSTART:20270606T110000Z
DTEND:20270606T150000Z
LOCATION:Community Overvloed (Arkansasdreef 20\, 3565 AR Utrecht)
SUMMARY:Tantric Dance INTIMI Utrecht NEW
URL:https://tantradance.nl/nl/agenda/td-intimi-tickets/evenement/951-tantri
 c-dance-intimi-utrecht-new
END:VEVENT
BEGIN:VEVENT
UID:20260420T185032UTC-3077JTONeu@https://tantradance.nl/
DTSTAMP:20260420T185032Z
DESCRIPTION:Alleen toegankelijk voor TD Intimi leden.Zie intimi.tantricdanc
 e.nl voor meer info. https://tantradance.nl/nl/agenda/td-intimi-tickets/ev
 enement/952-tantric-dance-intimi-utrecht-o-middag
DTSTART:20261025T120000Z
DTEND:20261025T160000Z
LOCATION:Community Overvloed (Arkansasdreef 20\, 3565 AR Utrecht)
SUMMARY:Tantric Dance INTIMI Utrecht • middag
URL:https://tantradance.nl/nl/agenda/td-intimi-tickets/evenement/952-tantri
 c-dance-intimi-utrecht-o-middag
END:VEVENT
BEGIN:VEVENT
UID:20260420T185032UTC-3078TrONBL@https://tantradance.nl/
DTSTAMP:20260420T185032Z
DESCRIPTION:Alleen toegankelijk voor TD Intimi leden.Zie intimi.tantricdanc
 e.nl voor meer info. https://tantradance.nl/nl/agenda/td-intimi-tickets/ev
 enement/953-tantric-dance-intimi-utrecht-o-middag
DTSTART:20261122T120000Z
DTEND:20261122T160000Z
LOCATION:Community Overvloed (Arkansasdreef 20\, 3565 AR Utrecht)
SUMMARY:Tantric Dance INTIMI Utrecht • middag
URL:https://tantradance.nl/nl/agenda/td-intimi-tickets/evenement/953-tantri
 c-dance-intimi-utrecht-o-middag
END:VEVENT
BEGIN:VEVENT
UID:20260420T185032UTC-3079RX81Lu@https://tantradance.nl/
DTSTAMP:20260420T185032Z
DESCRIPTION:Alleen toegankelijk voor TD Intimi leden.Zie intimi.tantricdanc
 e.nl voor meer info. https://tantradance.nl/nl/agenda/td-intimi-tickets/ev
 enement/954-tantric-dance-intimi-utrecht-o-middag
DTSTART:20261220T120000Z
DTEND:20261220T160000Z
LOCATION:Community Overvloed (Arkansasdreef 20\, 3565 AR Utrecht)
SUMMARY:Tantric Dance INTIMI Utrecht • middag
URL:https://tantradance.nl/nl/agenda/td-intimi-tickets/evenement/954-tantri
 c-dance-intimi-utrecht-o-middag
END:VEVENT
BEGIN:VEVENT
UID:20260420T185032UTC-308004bi1v@https://tantradance.nl/
DTSTAMP:20260420T185032Z
DESCRIPTION:Alleen toegankelijk voor TD Intimi leden.Zie intimi.tantricdanc
 e.nl voor meer info. https://tantradance.nl/nl/agenda/td-intimi-tickets/ev
 enement/955-tantric-dance-intimi-utrecht-o-middag
DTSTART:20270124T120000Z
DTEND:20270124T160000Z
LOCATION:Community Overvloed (Arkansasdreef 20\, 3565 AR Utrecht)
SUMMARY:Tantric Dance INTIMI Utrecht • middag
URL:https://tantradance.nl/nl/agenda/td-intimi-tickets/evenement/955-tantri
 c-dance-intimi-utrecht-o-middag
END:VEVENT
BEGIN:VEVENT
UID:20260420T185032UTC-3082uzMfC2@https://tantradance.nl/
DTSTAMP:20260420T185032Z
DESCRIPTION:Alleen toegankelijk voor TD Intimi leden.Zie intimi.tantricdanc
 e.nl voor meer info. https://tantradance.nl/nl/agenda/td-intimi-tickets/ev
 enement/956-tantric-dance-intimi-utrecht-o-middag
DTSTART:20270228T120000Z
DTEND:20270228T160000Z
LOCATION:Community Overvloed (Arkansasdreef 20\, 3565 AR Utrecht)
SUMMARY:Tantric Dance INTIMI Utrecht • middag
URL:https://tantradance.nl/nl/agenda/td-intimi-tickets/evenement/956-tantri
 c-dance-intimi-utrecht-o-middag
END:VEVENT
BEGIN:VEVENT
UID:20260420T185032UTC-3083dRtgpm@https://tantradance.nl/
DTSTAMP:20260420T185032Z
DESCRIPTION:Alleen toegankelijk voor TD Intimi leden.Zie intimi.tantricdanc
 e.nl voor meer info. https://tantradance.nl/nl/agenda/td-intimi-tickets/ev
 enement/957-tantric-dance-intimi-utrecht-o-middag
DTSTART:20270321T120000Z
DTEND:20270321T160000Z
LOCATION:Community Overvloed (Arkansasdreef 20\, 3565 AR Utrecht)
SUMMARY:Tantric Dance INTIMI Utrecht • middag
URL:https://tantradance.nl/nl/agenda/td-intimi-tickets/evenement/957-tantri
 c-dance-intimi-utrecht-o-middag
END:VEVENT
BEGIN:VEVENT
UID:20260420T185032UTC-3084xpTTuw@https://tantradance.nl/
DTSTAMP:20260420T185032Z
DESCRIPTION:Alleen toegankelijk voor TD Intimi leden.Zie intimi.tantricdanc
 e.nl voor meer info. https://tantradance.nl/nl/agenda/td-intimi-tickets/ev
 enement/958-tantric-dance-intimi-utrecht-o-middag
DTSTART:20270418T110000Z
DTEND:20270418T150000Z
LOCATION:Community Overvloed (Arkansasdreef 20\, 3565 AR Utrecht)
SUMMARY:Tantric Dance INTIMI Utrecht • middag
URL:https://tantradance.nl/nl/agenda/td-intimi-tickets/evenement/958-tantri
 c-dance-intimi-utrecht-o-middag
END:VEVENT
BEGIN:VEVENT
UID:20260420T185032UTC-3086xVbFNE@https://tantradance.nl/
DTSTAMP:20260420T185032Z
DESCRIPTION:Alleen toegankelijk voor TD Intimi leden.Zie intimi.tantricdanc
 e.nl voor meer info. https://tantradance.nl/nl/agenda/td-intimi-tickets/ev
 enement/959-tantric-dance-intimi-utrecht-o-middag
DTSTART:20270530T110000Z
DTEND:20270530T150000Z
LOCATION:Community Overvloed (Arkansasdreef 20\, 3565 AR Utrecht)
SUMMARY:Tantric Dance INTIMI Utrecht • middag
URL:https://tantradance.nl/nl/agenda/td-intimi-tickets/evenement/959-tantri
 c-dance-intimi-utrecht-o-middag
END:VEVENT
BEGIN:VEVENT
UID:20260420T185032UTC-3087OvcIl1@https://tantradance.nl/
DTSTAMP:20260420T185032Z
DESCRIPTION:Alleen toegankelijk voor TD Intimi leden.Zie intimi.tantricdanc
 e.nl voor meer info. https://tantradance.nl/nl/agenda/td-intimi-tickets/ev
 enement/960-tantric-dance-intimi-utrecht-o-middag
DTSTART:20270627T110000Z
DTEND:20270627T150000Z
LOCATION:Community Overvloed (Arkansasdreef 20\, 3565 AR Utrecht)
SUMMARY:Tantric Dance INTIMI Utrecht • middag
URL:https://tantradance.nl/nl/agenda/td-intimi-tickets/evenement/960-tantri
 c-dance-intimi-utrecht-o-middag
END:VEVENT
BEGIN:VEVENT
UID:20260420T185032UTC-3088LFpnUs@https://tantradance.nl/
DTSTAMP:20260420T185032Z
DESCRIPTION:Exclusief toegankelijk voor TD INTIMI vrienden.\n19:00 ~ OPEN (
 19:30 deur DICHT!)19:30 ~ Start &amp\; in dansen20:00 ~ Vrij dansen22:30 ~
  Einde\nZie intimi.tantricdance.nl voor meer info. https://tantradance.nl/
 nl/agenda/td-intimi-tickets/evenement/961-tantric-dance-intimi-utrecht-vri
 endenavond
DTSTART:20261002T173000Z
DTEND:20261002T203000Z
LOCATION:Community Overvloed (Arkansasdreef 20\, 3565 AR Utrecht)
SUMMARY:Tantric Dance INTIMI Utrecht vriendenavond
URL:https://tantradance.nl/nl/agenda/td-intimi-tickets/evenement/961-tantri
 c-dance-intimi-utrecht-vriendenavond
END:VEVENT
BEGIN:VEVENT
UID:20260420T185032UTC-3089Atb9p4@https://tantradance.nl/
DTSTAMP:20260420T185032Z
DESCRIPTION:Exclusief&nbsp\;toegankelijk voor TD INTIMI vrienden.\n19:00 ~ 
 OPEN (19:30 deur DICHT!)19:30 ~ Start &amp\; in dansen20:00 ~ Vrij dansen2
 2:30 ~ Einde\nZie intimi.tantricdance.nl voor meer info. https://tantradan
 ce.nl/nl/agenda/td-intimi-tickets/evenement/970-tantric-dance-intimi-utrec
 ht-vriendenavond
DTSTART:20261113T183000Z
DTEND:20261113T213000Z
LOCATION:Community Overvloed (Arkansasdreef 20\, 3565 AR Utrecht)
SUMMARY:Tantric Dance INTIMI Utrecht vriendenavond
URL:https://tantradance.nl/nl/agenda/td-intimi-tickets/evenement/970-tantri
 c-dance-intimi-utrecht-vriendenavond
END:VEVENT
BEGIN:VEVENT
UID:20260420T185032UTC-3091oJVk7T@https://tantradance.nl/
DTSTAMP:20260420T185032Z
DESCRIPTION:Exclusief&nbsp\;toegankelijk voor TD INTIMI vrienden.\n19:00 ~ 
 OPEN (19:30 deur DICHT!)19:30 ~ Start &amp\; in dansen20:00 ~ Vrij dansen2
 2:30 ~ Einde\nZie intimi.tantricdance.nl voor meer info. https://tantradan
 ce.nl/nl/agenda/td-intimi-tickets/evenement/971-tantric-dance-intimi-utrec
 ht-vriendenavond
DTSTART:20261211T183000Z
DTEND:20261211T213000Z
LOCATION:Community Overvloed (Arkansasdreef 20\, 3565 AR Utrecht)
SUMMARY:Tantric Dance INTIMI Utrecht vriendenavond
URL:https://tantradance.nl/nl/agenda/td-intimi-tickets/evenement/971-tantri
 c-dance-intimi-utrecht-vriendenavond
END:VEVENT
BEGIN:VEVENT
UID:20260420T185032UTC-3092JF0Mbf@https://tantradance.nl/
DTSTAMP:20260420T185032Z
DESCRIPTION:Exclusief&nbsp\;toegankelijk voor TD INTIMI vrienden.\n19:00 ~ 
 OPEN (19:30 deur DICHT!)19:30 ~ Start &amp\; in dansen20:00 ~ Vrij dansen2
 2:30 ~ Einde\nZie intimi.tantricdance.nl voor meer info. https://tantradan
 ce.nl/nl/agenda/td-intimi-tickets/evenement/972-tantric-dance-intimi-utrec
 ht-vriendenavond
DTSTART:20270108T183000Z
DTEND:20270108T213000Z
LOCATION:Community Overvloed (Arkansasdreef 20\, 3565 AR Utrecht)
SUMMARY:Tantric Dance INTIMI Utrecht vriendenavond
URL:https://tantradance.nl/nl/agenda/td-intimi-tickets/evenement/972-tantri
 c-dance-intimi-utrecht-vriendenavond
END:VEVENT
BEGIN:VEVENT
UID:20260420T185032UTC-3093ovGeou@https://tantradance.nl/
DTSTAMP:20260420T185032Z
DESCRIPTION:Exclusief&nbsp\;toegankelijk voor TD INTIMI vrienden.\n19:00 ~ 
 OPEN (19:30 deur DICHT!)19:30 ~ Start &amp\; in dansen20:00 ~ Vrij dansen2
 2:30 ~ Einde\nZie intimi.tantricdance.nl voor meer info. https://tantradan
 ce.nl/nl/agenda/td-intimi-tickets/evenement/973-tantric-dance-intimi-utrec
 ht-vriendenavond
DTSTART:20270212T183000Z
DTEND:20270212T213000Z
LOCATION:Community Overvloed (Arkansasdreef 20\, 3565 AR Utrecht)
SUMMARY:Tantric Dance INTIMI Utrecht vriendenavond
URL:https://tantradance.nl/nl/agenda/td-intimi-tickets/evenement/973-tantri
 c-dance-intimi-utrecht-vriendenavond
END:VEVENT
BEGIN:VEVENT
UID:20260420T185032UTC-3094VBNtka@https://tantradance.nl/
DTSTAMP:20260420T185032Z
DESCRIPTION:Exclusief&nbsp\;toegankelijk voor TD INTIMI vrienden.\n19:00 ~ 
 OPEN (19:30 deur DICHT!)19:30 ~ Start &amp\; in dansen20:00 ~ Vrij dansen2
 2:30 ~ Einde\nZie intimi.tantricdance.nl voor meer info. https://tantradan
 ce.nl/nl/agenda/td-intimi-tickets/evenement/974-tantric-dance-intimi-utrec
 ht-vriendenavond
DTSTART:20270312T183000Z
DTEND:20270312T213000Z
LOCATION:Community Overvloed (Arkansasdreef 20\, 3565 AR Utrecht)
SUMMARY:Tantric Dance INTIMI Utrecht vriendenavond
URL:https://tantradance.nl/nl/agenda/td-intimi-tickets/evenement/974-tantri
 c-dance-intimi-utrecht-vriendenavond
END:VEVENT
BEGIN:VEVENT
UID:20260420T185032UTC-3096lBuWon@https://tantradance.nl/
DTSTAMP:20260420T185032Z
DESCRIPTION:Exclusief&nbsp\;toegankelijk voor TD INTIMI vrienden.\n19:00 ~ 
 OPEN (19:30 deur DICHT!)19:30 ~ Start &amp\; in dansen20:00 ~ Vrij dansen2
 2:30 ~ Einde\nZie intimi.tantricdance.nl voor meer info. https://tantradan
 ce.nl/nl/agenda/td-intimi-tickets/evenement/975-tantric-dance-intimi-utrec
 ht-vriendenavond
DTSTART:20270409T173000Z
DTEND:20270409T203000Z
LOCATION:Community Overvloed (Arkansasdreef 20\, 3565 AR Utrecht)
SUMMARY:Tantric Dance INTIMI Utrecht vriendenavond
URL:https://tantradance.nl/nl/agenda/td-intimi-tickets/evenement/975-tantri
 c-dance-intimi-utrecht-vriendenavond
END:VEVENT
BEGIN:VEVENT
UID:20260420T185032UTC-3097NhSTMG@https://tantradance.nl/
DTSTAMP:20260420T185032Z
DESCRIPTION:Exclusief&nbsp\;toegankelijk voor TD INTIMI vrienden.\n19:00 ~ 
 OPEN (19:30 deur DICHT!)19:30 ~ Start &amp\; in dansen20:00 ~ Vrij dansen2
 2:30 ~ Einde\nZie intimi.tantricdance.nl voor meer info. https://tantradan
 ce.nl/nl/agenda/td-intimi-tickets/evenement/976-tantric-dance-intimi-utrec
 ht-vriendenavond
DTSTART:20270514T173000Z
DTEND:20270514T203000Z
LOCATION:Community Overvloed (Arkansasdreef 20\, 3565 AR Utrecht)
SUMMARY:Tantric Dance INTIMI Utrecht vriendenavond
URL:https://tantradance.nl/nl/agenda/td-intimi-tickets/evenement/976-tantri
 c-dance-intimi-utrecht-vriendenavond
END:VEVENT
BEGIN:VEVENT
UID:20260420T185032UTC-3098AnZHT3@https://tantradance.nl/
DTSTAMP:20260420T185032Z
DESCRIPTION:Exclusief&nbsp\;toegankelijk voor TD INTIMI vrienden.\n19:00 ~ 
 OPEN (19:30 deur DICHT!)19:30 ~ Start &amp\; in dansen20:00 ~ Vrij dansen2
 2:30 ~ Einde\nZie intimi.tantricdance.nl voor meer info. https://tantradan
 ce.nl/nl/agenda/td-intimi-tickets/evenement/977-tantric-dance-intimi-utrec
 ht-vriendenavond
DTSTART:20270611T173000Z
DTEND:20270611T203000Z
LOCATION:Community Overvloed (Arkansasdreef 20\, 3565 AR Utrecht)
SUMMARY:Tantric Dance INTIMI Utrecht vriendenavond
URL:https://tantradance.nl/nl/agenda/td-intimi-tickets/evenement/977-tantri
 c-dance-intimi-utrecht-vriendenavond
END:VEVENT
BEGIN:VEVENT
UID:20260420T185032UTC-3100zLpk1I@https://tantradance.nl/
DTSTAMP:20260420T185032Z
DESCRIPTION:Alleen toegankelijk voor TD Intimi leden.Zie intimi.tantricdanc
 e.nl voor meer info. https://tantradance.nl/nl/agenda/td-intimi-tickets/ev
 enement/979-tantric-dance-intimi-utrecht
DTSTART:20260927T110000Z
DTEND:20260927T150000Z
LOCATION:Danscentrum Utrecht (DCU Monseigneur) (Mgr. van de Weteringstraat 
 13A\, 3581 EA Utrecht)
SUMMARY:Tantric Dance INTIMI Utrecht
URL:https://tantradance.nl/nl/agenda/td-intimi-tickets/evenement/979-tantri
 c-dance-intimi-utrecht
END:VEVENT
BEGIN:VEVENT
UID:20260420T185032UTC-3101NXUrzA@https://tantradance.nl/
DTSTAMP:20260420T185032Z
DESCRIPTION:Exclusief toegankelijk voor wie persoonlijk is uitgenodigd.\n18
 :00 ~ Potluck19:30 ~ Start &amp\; in dansen&nbsp\;(20:00 deur DICHT!)20:00
  ~ Vrij dansen22:30 ~ Einde https://tantradance.nl/nl/agenda/td-intimi-tic
 kets/evenement/980-tantric-dance-intimi-reuenie-seizoen-start
DTSTART:20260911T173000Z
DTEND:20260911T203000Z
LOCATION:Community Overvloed (Arkansasdreef 20\, 3565 AR Utrecht)
SUMMARY:Tantric Dance INTIMI REÜNIE & Seizoen start
URL:https://tantradance.nl/nl/agenda/td-intimi-tickets/evenement/980-tantri
 c-dance-intimi-reuenie-seizoen-start
END:VEVENT
END:VCALENDAR
